BEGIN:VCALENDAR
VERSION:2.0
PRODID:-//AudioTheme 1.6.3
BEGIN:VEVENT
UID:http://www.anneetienvre.com/?post_type=audiotheme_gig&#038;p=444
URL:https://www.anneetienvre.com/concerts/alencon/
DTSTART;TZID=GMT:20161112T000000
SUMMARY:Alençon
LOCATION:Alençon
END:VEVENT
END:VCALENDAR