BEGIN:VCALENDAR
VERSION:2.0
PRODID:-//AudioTheme 1.6.3
BEGIN:VEVENT
UID:http://www.anneetienvre.com/?post_type=audiotheme_gig&#038;p=120
URL:https://www.anneetienvre.com/concerts/festival-musical-de-treves-cunault-2/
DTSTART;TZID=GMT:20150802T150000
SUMMARY:Festival musical de Trèves Cunault.
DESCRIPTION:Festival musical de Trèves Cunault.
LOCATION:Eglise de Trèves-Cunault
END:VEVENT
END:VCALENDAR