BEGIN:VCALENDAR
VERSION:2.0
PRODID:-//AudioTheme 1.6.3
BEGIN:VEVENT
UID:http://www.anneetienvre.com/?post_type=audiotheme_gig&#038;p=301
URL:https://www.anneetienvre.com/concerts/gig-301/
DTSTART;TZID=GMT:20151003T000000
SUMMARY:Fièvre du samedi matin
LOCATION:La Fonderie au Mans
END:VEVENT
END:VCALENDAR