BEGIN:VCALENDAR
VERSION:2.0
PRODID:-//AudioTheme 1.6.3
BEGIN:VEVENT
UID:http://www.anneetienvre.com/?post_type=audiotheme_gig&#038;p=323
URL:https://www.anneetienvre.com/concerts/gig-323/
DTSTART;TZID=GMT:20160406T000000
SUMMARY:Rennes
LOCATION:Rennes
END:VEVENT
END:VCALENDAR