BEGIN:VCALENDAR
VERSION:2.0
PRODID:-//AudioTheme 1.6.3
BEGIN:VEVENT
UID:http://www.anneetienvre.com/?post_type=audiotheme_gig&#038;p=395
URL:https://www.anneetienvre.com/concerts/gig-395/
DTSTART;TZID=GMT:20160611T000000
SUMMARY:Angers
LOCATION:Angers
END:VEVENT
END:VCALENDAR